BEGIN:VCALENDAR
VERSION:2.0
PRODID:-//Australian Security Academy - ECPv5.0.2//NONSGML v1.0//EN
CALSCALE:GREGORIAN
METHOD:PUBLISH
X-WR-CALNAME:Australian Security Academy
X-ORIGINAL-URL:https://australiansecurityacademy.edu.au
X-WR-CALDESC:Events for Australian Security Academy
BEGIN:VTIMEZONE
TZID:Australia/Brisbane
BEGIN:STANDARD
TZOFFSETFROM:+1000
TZOFFSETTO:+1000
TZNAME:AEST
DTSTART:20200101T000000
END:STANDARD
END:VTIMEZONE
BEGIN:VEVENT
DTSTART;TZID=Australia/Brisbane:20200427T083000
DTEND;TZID=Australia/Brisbane:20200501T170000
DTSTAMP:20200227T084836
CREATED:20190507T020545Z
LAST-MODIFIED:20190507T020545Z
UID:4585-1587976200-1588352400@australiansecurityacademy.edu.au
SUMMARY:Cert III in Investigative Services Training Event: Melbourne
DESCRIPTION:The Australian Security Academy’s Certificate III in Investigative Services is the most comprehensive and straight forward in Australia. We invite you to join us in Melbourne to train with some of Australia’s best in the industry. To secure your spot you need to be enrolled in the Certificate III in Investigative Services which is online and self-paced. \n
URL:https://australiansecurityacademy.edu.au/event/cert-iii-in-investigative-services-training-event-melbourne-3/
LOCATION:TBC\, To Be Confirmed
ATTACH;FMTTYPE=image/jpeg:https://australiansecurityacademy.edu.au/wp-content/uploads/security-risk-management.jpg
END:VEVENT
END:VCALENDAR